
BEGIN:VCALENDAR
VERSION:2.0
PRODID:-//CLUB MIYABI - ECPv5.16.3.1//NONSGML v1.0//EN
CALSCALE:GREGORIAN
METHOD:PUBLISH
X-WR-CALNAME:CLUB MIYABI
X-ORIGINAL-URL:https://demo21.ace214.com
X-WR-CALDESC:CLUB MIYABI のイベント
BEGIN:VTIMEZONE
TZID:Asia/Tokyo
BEGIN:STANDARD
TZOFFSETFROM:+0900
TZOFFSETTO:+0900
TZNAME:JST
DTSTART:20220101T000000
END:STANDARD
END:VTIMEZONE
BEGIN:VEVENT
DTSTART;TZID=Asia/Tokyo:20220826T190000
DTEND;TZID=Asia/Tokyo:20220826T220000
DTSTAMP:20260424T005641
CREATED:20220802T104823Z
LAST-MODIFIED:20220812T023639Z
UID:166-1661540400-1661551200@demo21.ace214.com
SUMMARY:浴衣イベント
DESCRIPTION:浴衣イベント！開催決定！\n普段ドレスの女の子たちが浴衣に着替えてご接客しちゃいます！\nいつもとは違う雰囲気の女の子達に是非会いに来てください！
URL:https://demo21.ace214.com/event/10/
ATTACH;FMTTYPE=image/jpeg:https://demo21.ace214.com/wp-content/uploads/2022/08/293781190_423614169707558_2477335342487925832_n.jpg
END:VEVENT
END:VCALENDAR